BEGIN:VCALENDAR
VERSION:2.0
PRODID:-//Sabre//Sabre VObject 4.5.8//EN
CALSCALE:GREGORIAN
BEGIN:VTIMEZONE
TZID:Europe/Zurich
X-LIC-LOCATION:Europe/Zurich
TZURL:http://tzurl.org/zoneinfo/Europe/Zurich
BEGIN:DAYLIGHT
TZOFFSETFROM:+0100
TZOFFSETTO:+0200
TZNAME:CEST
DTSTART:19810329T020000
RRULE:FREQ=YEARLY;BYMONTH=3;BYDAY=-1SU
END:DAYLIGHT
BEGIN:STANDARD
TZOFFSETFROM:+0200
TZOFFSETTO:+0100
TZNAME:CET
DTSTART:19961027T030000
RRULE:FREQ=YEARLY;BYMONTH=10;BYDAY=-1SU
END:STANDARD
END:VTIMEZONE
BEGIN:VEVENT
UID:news514@dbe.unibas.ch
DTSTAMP;TZID=Europe/Zurich:20260414T140342
DTSTART;TZID=Europe/Zurich:20260505T100000
SUMMARY:Robotic Spinal Impedance Assessment of Adolescent Idiopathic Scolio
 sis Patients
DESCRIPTION:Examiners:\\r\\nProf. Dr. Georg Rauter\, University of Basel 
 – primary advisorPI. Dr.med. Daniel Studer\, University of Basel – sec
 ondary advisorProf. Dr. Stephan Ferguson\, ETH Zurich – external expertP
 rof. Dr. med. Carol-Claudius Hasler\, University of Basel – further advi
 sorAss. Prof. Dr. Philippe B¨uchler\, University of Bern – further advi
 sorDr. Nicolas Gerig\, University of Basel – further advisorDr. Lauren C
 hee\, University of Basel – further advisor
X-ALT-DESC:<p>Examiners:</p>\n<p>Prof. Dr. Georg Rauter\, University of Bas
 el – primary advisor<br />PI. Dr.med. Daniel Studer\, University of Base
 l – secondary advisor<br />Prof. Dr. Stephan Ferguson\, ETH Zurich – e
 xternal expert<br />Prof. Dr. med. Carol-Claudius Hasler\, University of B
 asel – further advisor<br />Ass. Prof. Dr. Philippe B¨uchler\, Universi
 ty of Bern – further advisor<br />Dr. Nicolas Gerig\, University of Base
 l – further advisor<br />Dr. Lauren Chee\, University of Basel – furth
 er advisor</p>
DTEND;TZID=Europe/Zurich:20260505T120000
END:VEVENT
END:VCALENDAR
